BEGIN:VCALENDAR
VERSION:2.0
PRODID:-//Ezion Fair Baptist Church - ECPv6.15.20//NONSGML v1.0//EN
CALSCALE:GREGORIAN
METHOD:PUBLISH
X-WR-CALNAME:Ezion Fair Baptist Church
X-ORIGINAL-URL:https://myezionfair.org
X-WR-CALDESC:Events for Ezion Fair Baptist Church
REFRESH-INTERVAL;VALUE=DURATION:PT1H
X-Robots-Tag:noindex
X-PUBLISHED-TTL:PT1H
BEGIN:VTIMEZONE
TZID:UTC
BEGIN:STANDARD
TZOFFSETFROM:+0000
TZOFFSETTO:+0000
TZNAME:UTC
DTSTART:20230101T000000
END:STANDARD
END:VTIMEZONE
BEGIN:VEVENT
DTSTART;TZID=UTC:20240828T080000
DTEND;TZID=UTC:20240828T170000
DTSTAMP:20260425T122113
CREATED:20240828T212045Z
LAST-MODIFIED:20240828T212045Z
UID:26378-1724832000-1724864400@myezionfair.org
SUMMARY:Piercing the Darkness Ministry - Youth Meetup:
DESCRIPTION:Piercing the Darkness Ministry – Youth Meetup: Youth are invited to our next meetup on September 7\, 2024\, from 12:00 PM to 4:00 PM. Meet in the church parking lot to drive to location. Join us for an afternoon of fun and fellowship! \nFor more information contact First Lady Rosa Curry at 302-652-9114 ext. 101
URL:https://myezionfair.org/event/piercing-the-darkness-ministry-youth-meetup/
END:VEVENT
END:VCALENDAR