BEGIN:VCALENDAR
VERSION:2.0
PRODID:-//Ezion Fair Baptist Church - ECPv6.15.20//NONSGML v1.0//EN
CALSCALE:GREGORIAN
METHOD:PUBLISH
X-ORIGINAL-URL:https://myezionfair.org
X-WR-CALDESC:Events for Ezion Fair Baptist Church
REFRESH-INTERVAL;VALUE=DURATION:PT1H
X-Robots-Tag:noindex
X-PUBLISHED-TTL:PT1H
BEGIN:VTIMEZONE
TZID:UTC
BEGIN:STANDARD
TZOFFSETFROM:+0000
TZOFFSETTO:+0000
TZNAME:UTC
DTSTART:20250101T000000
END:STANDARD
END:VTIMEZONE
BEGIN:VEVENT
DTSTART;TZID=UTC:20260411T140000
DTEND;TZID=UTC:20260411T160000
DTSTAMP:20260423T203545
CREATED:20260307T213313Z
LAST-MODIFIED:20260307T213313Z
UID:27724-1775916000-1775923200@myezionfair.org
SUMMARY:Virtuous Ladies Tea
DESCRIPTION:Virtuous Ladies Tea\nThe Wells of Wisdom (WOW) Women’s Ministry cordially invites you to attend the Virtuous Ladies Tea\, an elegant afternoon designed to uplift\, encourage\, and connect women in faith and fellowship. \nGuests will enjoy a beautiful time of inspiration\, meaningful conversation\, and sisterhood while reflecting on the virtues that strengthen women in their spiritual journey. \n📅 Saturday\, April 11\, 2026🕑 2:00 PM – 4:00 PM📍 Ezion Fair Baptist Church1400 B Street\, Wilmington\, DE \nAll women are warmly welcome to attend this special gathering.
URL:https://myezionfair.org/event/virtuous-ladies-tea/
END:VEVENT
END:VCALENDAR