BEGIN:VCALENDAR
VERSION:2.0
PRODID:-//Ezion Fair Baptist Church - ECPv6.15.20//NONSGML v1.0//EN
CALSCALE:GREGORIAN
METHOD:PUBLISH
X-WR-CALNAME:Ezion Fair Baptist Church
X-ORIGINAL-URL:https://myezionfair.org
X-WR-CALDESC:Events for Ezion Fair Baptist Church
REFRESH-INTERVAL;VALUE=DURATION:PT1H
X-Robots-Tag:noindex
X-PUBLISHED-TTL:PT1H
BEGIN:VTIMEZONE
TZID:UTC
BEGIN:STANDARD
TZOFFSETFROM:+0000
TZOFFSETTO:+0000
TZNAME:UTC
DTSTART:20250101T000000
END:STANDARD
END:VTIMEZONE
BEGIN:VEVENT
DTSTART;TZID=UTC:20260405T100000
DTEND;TZID=UTC:20260405T120000
DTSTAMP:20260423T200528
CREATED:20260402T213824Z
LAST-MODIFIED:20260402T215438Z
UID:27936-1775383200-1775390400@myezionfair.org
SUMMARY:Resurrection Sunday Service
DESCRIPTION:Join us as we celebrate the power and promise of Resurrection Sunday on April 5\, 2026 at 10:00 AM. This special service\, hosted by our Performing Arts and Music Ministry\, will present the message through powerful acting and uplifting music that brings the story of Christ’s resurrection to life. \nCome experience a meaningful and inspiring atmosphere with family\, friends\, and our church community at Ezion Fair Baptist Church\, 1400 B Street\, Wilmington\, DE 19802.
URL:https://myezionfair.org/event/resurrection-sunday-service/
END:VEVENT
END:VCALENDAR