BEGIN:VCALENDAR
VERSION:2.0
PRODID:-//Ezion Fair Baptist Church - ECPv6.15.20//NONSGML v1.0//EN
CALSCALE:GREGORIAN
METHOD:PUBLISH
X-ORIGINAL-URL:https://myezionfair.org
X-WR-CALDESC:Events for Ezion Fair Baptist Church
REFRESH-INTERVAL;VALUE=DURATION:PT1H
X-Robots-Tag:noindex
X-PUBLISHED-TTL:PT1H
BEGIN:VTIMEZONE
TZID:UTC
BEGIN:STANDARD
TZOFFSETFROM:+0000
TZOFFSETTO:+0000
TZNAME:UTC
DTSTART:20240101T000000
END:STANDARD
END:VTIMEZONE
BEGIN:VEVENT
DTSTART;TZID=UTC:20250813T080000
DTEND;TZID=UTC:20250901T170000
DTSTAMP:20260424T144606
CREATED:20250812T133442Z
LAST-MODIFIED:20250812T133442Z
UID:27106-1755072000-1756746000@myezionfair.org
SUMMARY:Community Open Gym
DESCRIPTION:  \nJoin us every Monday\, Tuesday\, and Thursday for Community Open Gym at Ezion Fair Wholeness Community Center. \nMorning sessions: 7:30–10:00 AM; Evening sessions: 4:00–5:50 PM. \nMembers only. Call (302) 510-4548 for more info.
URL:https://myezionfair.org/event/community-open-gym/
END:VEVENT
END:VCALENDAR