BEGIN:VCALENDAR
VERSION:2.0
PRODID:-//Ezion Fair Baptist Church - ECPv6.15.20//NONSGML v1.0//EN
CALSCALE:GREGORIAN
METHOD:PUBLISH
X-ORIGINAL-URL:https://myezionfair.org
X-WR-CALDESC:Events for Ezion Fair Baptist Church
REFRESH-INTERVAL;VALUE=DURATION:PT1H
X-Robots-Tag:noindex
X-PUBLISHED-TTL:PT1H
BEGIN:VTIMEZONE
TZID:UTC
BEGIN:STANDARD
TZOFFSETFROM:+0000
TZOFFSETTO:+0000
TZNAME:UTC
DTSTART:20250101T000000
END:STANDARD
END:VTIMEZONE
BEGIN:VEVENT
DTSTART;TZID=UTC:20260405T060000
DTEND;TZID=UTC:20260405T080000
DTSTAMP:20260423T201738
CREATED:20260402T214143Z
LAST-MODIFIED:20260402T214143Z
UID:27938-1775368800-1775376000@myezionfair.org
SUMMARY:Sunrise Service
DESCRIPTION:Start your Resurrection Sunday with a peaceful and powerful Sunrise Service on April 5\, 2026 at 6:00 AM. As the sun rises\, we gather to reflect on the resurrection of Jesus and the new life it brings. This intimate service offers a time of worship\, prayer\, and inspiration to begin the day renewed in faith. \nJoin us at Ezion Fair Baptist Church\, 1400 B Street\, Wilmington\, DE 19802.
URL:https://myezionfair.org/event/sunrise-service/
END:VEVENT
END:VCALENDAR