BEGIN:VCALENDAR
VERSION:2.0
PRODID:-//Ezion Fair Baptist Church - ECPv6.15.20//NONSGML v1.0//EN
CALSCALE:GREGORIAN
METHOD:PUBLISH
X-WR-CALNAME:Ezion Fair Baptist Church
X-ORIGINAL-URL:https://myezionfair.org
X-WR-CALDESC:Events for Ezion Fair Baptist Church
REFRESH-INTERVAL;VALUE=DURATION:PT1H
X-Robots-Tag:noindex
X-PUBLISHED-TTL:PT1H
BEGIN:VTIMEZONE
TZID:UTC
BEGIN:STANDARD
TZOFFSETFROM:+0000
TZOFFSETTO:+0000
TZNAME:UTC
DTSTART:20230101T000000
END:STANDARD
END:VTIMEZONE
BEGIN:VEVENT
DTSTART;VALUE=DATE:20240901
DTEND;VALUE=DATE:20240902
DTSTAMP:20260425T212411
CREATED:20240828T212633Z
LAST-MODIFIED:20240828T212733Z
UID:26380-1725148800-1725235199@myezionfair.org
SUMMARY:Retention Ministry - New Members
DESCRIPTION:Retention Ministry – New Members: Meet the Retention Ministry team in the church lobby after the 9:00 AM and 11:30 AM services to connect and learn more about our church. \nFor more information please contact the church at 302-652-9114 ext. 110
URL:https://myezionfair.org/event/retention-ministry-new-members/
END:VEVENT
BEGIN:VEVENT
DTSTART;VALUE=DATE:20240902
DTEND;VALUE=DATE:20240903
DTSTAMP:20260425T212411
CREATED:20240828T210452Z
LAST-MODIFIED:20240828T210603Z
UID:26364-1725235200-1725321599@myezionfair.org
SUMMARY:Daughters of Zion meets every Monday!
DESCRIPTION:Daughters of Zion Meeting Every Monday \nJoin us every Monday from 6:00 PM to 8:00 PM for a time of fellowship\, fun\, and dance! \nFor more information\, please contact Sister Ebony Jervey or Sister Tenisha Henry\, or call the church at 302-652-9114\, ext. 110.
URL:https://myezionfair.org/event/daughters-of-zion-meets-every-monday/
END:VEVENT
BEGIN:VEVENT
DTSTART;VALUE=DATE:20240908
DTEND;VALUE=DATE:20240909
DTSTAMP:20260425T212411
CREATED:20240828T211048Z
LAST-MODIFIED:20240828T211048Z
UID:26372-1725753600-1725839999@myezionfair.org
SUMMARY:New Members Classes Resume
DESCRIPTION:New Members Classes: Begin your journey with us by attending our New Members Class on September 8\, 2024. Time to be announced. \nFor more information\, please contact Deacon Troy or call the church at 302-652-9114\, ext. 110.
URL:https://myezionfair.org/event/new-members-classes-resume/
END:VEVENT
BEGIN:VEVENT
DTSTART;TZID=UTC:20240924T080000
DTEND;TZID=UTC:20240924T170000
DTSTAMP:20260425T212411
CREATED:20240924T133239Z
LAST-MODIFIED:20240924T133239Z
UID:26471-1727164800-1727197200@myezionfair.org
SUMMARY:Mens Prayer Breakfast
DESCRIPTION:Men’s Prayer Breakfast \nWe invite all men to join us for a time of fellowship\, prayer\, and inspiration at our Men’s Prayer Breakfast on October 5\, 2024\, at 9:00 AM in the church fellowship hall. This gathering is a great opportunity to strengthen your faith\, connect with other men in the community\, and be encouraged through God’s Word. \nOur guest speaker will be Minister Kyree Edwards\, who will deliver a powerful message designed to uplift and challenge us as men of God. Come with an open heart\, ready to engage in meaningful conversation and prayer as we grow together spiritually. \nDate: October 5\, 2024\nTime: 9:00 AM\nLocation: Church Fellowship Hall\nGuest Speaker: Minister Kyree Edwards \nDon’t miss this chance to bond with other men and deepen your walk with the Lord! We look forward to seeing you there!
URL:https://myezionfair.org/event/mens-prayer-breakfast/
END:VEVENT
END:VCALENDAR