BEGIN:VCALENDAR
VERSION:2.0
PRODID:-//Ezion Fair Baptist Church - ECPv6.15.20//NONSGML v1.0//EN
CALSCALE:GREGORIAN
METHOD:PUBLISH
X-ORIGINAL-URL:https://myezionfair.org
X-WR-CALDESC:Events for Ezion Fair Baptist Church
REFRESH-INTERVAL;VALUE=DURATION:PT1H
X-Robots-Tag:noindex
X-PUBLISHED-TTL:PT1H
BEGIN:VTIMEZONE
TZID:UTC
BEGIN:STANDARD
TZOFFSETFROM:+0000
TZOFFSETTO:+0000
TZNAME:UTC
DTSTART:20240101T000000
END:STANDARD
END:VTIMEZONE
BEGIN:VEVENT
DTSTART;TZID=UTC:20250121T193000
DTEND;TZID=UTC:20250121T203000
DTSTAMP:20260425T121818
CREATED:20250113T145904Z
LAST-MODIFIED:20250113T145904Z
UID:26706-1737487800-1737491400@myezionfair.org
SUMMARY:Monthly Overcomers Meeting
DESCRIPTION:Overcomers Monthly Meeting  \nDate: January 21\, 2024 \nTime: Starts at 7:30PM \nLocation: Ezion Fair Baptist Church – Church Fellowship Hall \nJoin us for the upcoming Overcomers Meeting on January 21st at 7:30 PM in the church fellowship hall. This gathering is a wonderful opportunity to connect with others and find encouragement in overcoming life’s challenges. \nFor additional details\, feel free to reach out to the church at 302-652-9114. We look forward to seeing you there!
URL:https://myezionfair.org/event/monthly-overcomers-meeting/
END:VEVENT
END:VCALENDAR