BEGIN:VCALENDAR
VERSION:2.0
PRODID:-//Ezion Fair Baptist Church - ECPv6.15.20//NONSGML v1.0//EN
CALSCALE:GREGORIAN
METHOD:PUBLISH
X-ORIGINAL-URL:https://myezionfair.org
X-WR-CALDESC:Events for Ezion Fair Baptist Church
REFRESH-INTERVAL;VALUE=DURATION:PT1H
X-Robots-Tag:noindex
X-PUBLISHED-TTL:PT1H
BEGIN:VTIMEZONE
TZID:UTC
BEGIN:STANDARD
TZOFFSETFROM:+0000
TZOFFSETTO:+0000
TZNAME:UTC
DTSTART:20230101T000000
END:STANDARD
END:VTIMEZONE
BEGIN:VEVENT
DTSTART;TZID=UTC:20241123T180000
DTEND;TZID=UTC:20241123T210000
DTSTAMP:20260425T155017
CREATED:20241107T142941Z
LAST-MODIFIED:20241111T140939Z
UID:26534-1732384800-1732395600@myezionfair.org
SUMMARY:Cozy Game Night with Piercing the Darkness Ministry
DESCRIPTION:✨ Cozy Game Night with Piercing the Darkness Ministry ✨ \nCalling all teens and young adults! Join us for an unforgettable Cozy Game Night on November 23rd from 6:00 PM to 9:00 PM in the Church Wholeness Center. We’re bringing you a night filled with fun games\, delicious food\, hot chocolate\, and a cozy movie to end the evening! \nWhat to Expect: \n\nA variety of games to enjoy with friends\nComfort food and warm drinks\nA movie to wrap up the night\n\nDress Code: Comfy and cozy! Bring your favorite sweater\, sweats\, or anything that feels like home. \nHow to Sign Up: Scan the flyer in the church bookstore\, or reach out to one of our ministry leaders: \n\nFirst Lady Rosa Curry\nMinister Kandee Boone\nMinister Andre Hinds\n\n\nFirst Lady Rosa Curry\, rosacurry@aol.com\, 302-652-9114 ext.101 \nMin. Andre Hinds\, andrehinds19@gmail.com\, 302-333-4117 \nMin. Kandee Boone\, kandeeboone@ymail.com\, 302-723-8651 \n\nDon’t miss out on a night of connection\, fun\, and fellowship!
URL:https://myezionfair.org/event/cozy-game-night-with-piercing-the-darkness-ministry/
END:VEVENT
END:VCALENDAR