BEGIN:VCALENDAR
VERSION:2.0
PRODID:-//Ezion Fair Baptist Church - ECPv6.15.20//NONSGML v1.0//EN
CALSCALE:GREGORIAN
METHOD:PUBLISH
X-WR-CALNAME:Ezion Fair Baptist Church
X-ORIGINAL-URL:https://myezionfair.org
X-WR-CALDESC:Events for Ezion Fair Baptist Church
REFRESH-INTERVAL;VALUE=DURATION:PT1H
X-Robots-Tag:noindex
X-PUBLISHED-TTL:PT1H
BEGIN:VTIMEZONE
TZID:UTC
BEGIN:STANDARD
TZOFFSETFROM:+0000
TZOFFSETTO:+0000
TZNAME:UTC
DTSTART:20240101T000000
END:STANDARD
END:VTIMEZONE
BEGIN:VEVENT
DTSTART;VALUE=DATE:20250127
DTEND;VALUE=DATE:20250128
DTSTAMP:20260425T153343
CREATED:20250113T150432Z
LAST-MODIFIED:20250113T150432Z
UID:26710-1737936000-1738022399@myezionfair.org
SUMMARY:Nehemiah Gateway (Free Tax Preparation Services)
DESCRIPTION:Nehemiah Gateway CDC \nFree Tax Services begin on January 27th  \nContact Information: www.nehemiahgateway.org  \nNehemiah Gateway is pleased to provide complimentary tax services for individuals earning $65\,000 a year or less. These services will be accessible starting on January 27th. For additional details\, please reach out to the church directly at 302-652-9114 or visit their website at nehemiahgateway.org.
URL:https://myezionfair.org/event/nehemiah-gateway-free-tax-preparation-services/
END:VEVENT
END:VCALENDAR