BEGIN:VCALENDAR
VERSION:2.0
PRODID:-//Ezion Fair Baptist Church - ECPv6.15.20//NONSGML v1.0//EN
CALSCALE:GREGORIAN
METHOD:PUBLISH
X-WR-CALNAME:Ezion Fair Baptist Church
X-ORIGINAL-URL:https://myezionfair.org
X-WR-CALDESC:Events for Ezion Fair Baptist Church
REFRESH-INTERVAL;VALUE=DURATION:PT1H
X-Robots-Tag:noindex
X-PUBLISHED-TTL:PT1H
BEGIN:VTIMEZONE
TZID:UTC
BEGIN:STANDARD
TZOFFSETFROM:+0000
TZOFFSETTO:+0000
TZNAME:UTC
DTSTART:20240101T000000
END:STANDARD
END:VTIMEZONE
BEGIN:VEVENT
DTSTART;TZID=UTC:20250823T130000
DTEND;TZID=UTC:20250823T160000
DTSTAMP:20260424T154051
CREATED:20250812T132833Z
LAST-MODIFIED:20250812T132833Z
UID:27098-1755954000-1755964800@myezionfair.org
SUMMARY:Back to School Bash
DESCRIPTION:Back to School Bash Flyer\nJoin us Saturday\, August 23\, 2025\, 1:00–4:00 PM at Ezion Fair Community Wholeness Center. Free haircuts\, backpacks\, nail painting\, games\, food\, and scholarship info sessions.
URL:https://myezionfair.org/event/back-to-school-bash/
END:VEVENT
END:VCALENDAR