BEGIN:VCALENDAR
VERSION:2.0
PRODID:-//Ezion Fair Baptist Church - ECPv6.15.20//NONSGML v1.0//EN
CALSCALE:GREGORIAN
METHOD:PUBLISH
X-WR-CALNAME:Ezion Fair Baptist Church
X-ORIGINAL-URL:https://myezionfair.org
X-WR-CALDESC:Events for Ezion Fair Baptist Church
REFRESH-INTERVAL;VALUE=DURATION:PT1H
X-Robots-Tag:noindex
X-PUBLISHED-TTL:PT1H
BEGIN:VTIMEZONE
TZID:UTC
BEGIN:STANDARD
TZOFFSETFROM:+0000
TZOFFSETTO:+0000
TZNAME:UTC
DTSTART:20250101T000000
END:STANDARD
END:VTIMEZONE
BEGIN:VEVENT
DTSTART;TZID=UTC:20260308T143000
DTEND;TZID=UTC:20260308T160000
DTSTAMP:20260423T154003
CREATED:20260307T213655Z
LAST-MODIFIED:20260307T213655Z
UID:27728-1772980200-1772985600@myezionfair.org
SUMMARY:ICUA of Delaware 63rd Annual Memorial Service
DESCRIPTION:Memorial Service – ICUA of Delaware\n63rd Annual Memorial Service \nThe ICUA of Delaware invites the community to join us for our 63rd Annual Memorial Service as we honor and remember our deceased Levites who have faithfully served in ministry. This sacred gathering is a time of reflection\, gratitude\, and remembrance as we celebrate their lives and lasting impact on the Kingdom of God. \nThe message will be delivered by Rev. Dr. C.T. Curry\, bringing words of encouragement and hope during this meaningful service. \n📅 Sunday\, March 8\, 2026🕑 2:30 PM📍 Ezion Fair Baptist Church1400 B Street\, Wilmington\, DE \nAll are welcome to join us as we remember and celebrate those who have gone before us.
URL:https://myezionfair.org/event/icua-of-delaware-63rd-annual-memorial-service/
END:VEVENT
BEGIN:VEVENT
DTSTART;TZID=UTC:20260309T180000
DTEND;TZID=UTC:20260309T200000
DTSTAMP:20260423T154003
CREATED:20260307T214307Z
LAST-MODIFIED:20260307T214328Z
UID:27734-1773079200-1773086400@myezionfair.org
SUMMARY:TG SWAP Family Skate Night
DESCRIPTION:TG SWAP Family Skate Night\nTG SWAP invites the Ezion Fair Baptist Church family to join us for a fun-filled Family Skate Night at Christiana Skating Center. This special evening is an opportunity to enjoy fellowship\, laughter\, and community while supporting and connecting with the young ladies of the TG SWAP ministry. \nWhether you plan to skate or simply come to enjoy the atmosphere\, all are welcome to attend and share in the fun. \n📅 Sunday\, March 9🕕 6:00 PM – 8:00 PM \n📍 Christiana Skating Center801 Christiana RoadNewark\, DE 19713 \n🎟 Admission: Free if not skating🛼 Skate Rental: $5 \nFor more information or to sign up\, please stop by the TG SWAP Ministry table after service or speak with Rev. Benton\, Min. Cassidy\, or any TG SWAP ministry leader.
URL:https://myezionfair.org/event/tg-swap-family-skate-night/
END:VEVENT
BEGIN:VEVENT
DTSTART;TZID=UTC:20260311T180000
DTEND;TZID=UTC:20260311T190000
DTSTAMP:20260423T154003
CREATED:20260307T214038Z
LAST-MODIFIED:20260307T214038Z
UID:27731-1773252000-1773255600@myezionfair.org
SUMMARY:Ministry Leadership Meeting
DESCRIPTION:Mandatory Ministry Leadership Meeting \nAll ministry leaders are required to attend this important leadership meeting as we gather to review ministry updates\, discuss upcoming initiatives\, and align our efforts for the continued growth and impact of our church community. \nThis meeting will provide guidance\, expectations\, and opportunities for collaboration among ministry leaders as we continue to serve faithfully and effectively. \n📅 Wednesday\, March 11\, 2026🕕 6:00 PM \nYour presence and participation are greatly appreciated as we work together in ministry.
URL:https://myezionfair.org/event/ministry-leadership-meeting/
END:VEVENT
END:VCALENDAR