BEGIN:VCALENDAR
VERSION:2.0
PRODID:-//Ezion Fair Baptist Church - ECPv6.15.20//NONSGML v1.0//EN
CALSCALE:GREGORIAN
METHOD:PUBLISH
X-ORIGINAL-URL:https://myezionfair.org
X-WR-CALDESC:Events for Ezion Fair Baptist Church
REFRESH-INTERVAL;VALUE=DURATION:PT1H
X-Robots-Tag:noindex
X-PUBLISHED-TTL:PT1H
BEGIN:VTIMEZONE
TZID:UTC
BEGIN:STANDARD
TZOFFSETFROM:+0000
TZOFFSETTO:+0000
TZNAME:UTC
DTSTART:20250101T000000
END:STANDARD
END:VTIMEZONE
BEGIN:VEVENT
DTSTART;TZID=UTC:20260201T090000
DTEND;TZID=UTC:20260201T100000
DTSTAMP:20260423T171018
CREATED:20260116T162252Z
LAST-MODIFIED:20260116T162252Z
UID:27560-1769936400-1769940000@myezionfair.org
SUMMARY:Give Back Sunday (Coffee Chat & Chew)
DESCRIPTION:Give Back Sunday Event “Coffee Chat & Chew”\n \nYou’re invited to join us for Coffee Chat & Chew\, a Give Back Sunday event focused on fellowship and connection. \n📅 February 2026⏰ 9:00 AM – 10:00 AM📍 Fellowship Hall \nEnjoy hot coffee\, hot chocolate\, or tea\, along with a fresh pastry\, and take time for meaningful conversation before service. \nAll are welcome! For more information\, please connect with a member of the Retention Ministry.
URL:https://myezionfair.org/event/give-back-sunday-coffee-chat-chew/
END:VEVENT
END:VCALENDAR