BEGIN:VCALENDAR
VERSION:2.0
PRODID:-//Ezion Fair Baptist Church - ECPv6.15.20//NONSGML v1.0//EN
CALSCALE:GREGORIAN
METHOD:PUBLISH
X-WR-CALNAME:Ezion Fair Baptist Church
X-ORIGINAL-URL:https://myezionfair.org
X-WR-CALDESC:Events for Ezion Fair Baptist Church
REFRESH-INTERVAL;VALUE=DURATION:PT1H
X-Robots-Tag:noindex
X-PUBLISHED-TTL:PT1H
BEGIN:VTIMEZONE
TZID:UTC
BEGIN:STANDARD
TZOFFSETFROM:+0000
TZOFFSETTO:+0000
TZNAME:UTC
DTSTART:20240101T000000
END:STANDARD
END:VTIMEZONE
BEGIN:VEVENT
DTSTART;TZID=UTC:20251201T080000
DTEND;TZID=UTC:20251207T170000
DTSTAMP:20260423T203350
CREATED:20250708T223611Z
LAST-MODIFIED:20251201T140934Z
UID:27030-1764576000-1765126800@myezionfair.org
SUMMARY:Our Pastor & People: Pastoral Anniversary Week
DESCRIPTION:Celebrating Our Pastor & People: Pastoral Anniversary Week \n \nDecember 1–7\, 2025Ezion Fair Baptist Church \nJoin us as we honor the faithful leadership and spiritual guidance of Rev. Dr. Christopher T. Curry\, alongside First Lady Rosa Curry and First Daughter Ashley Curry\, during our upcoming Pastoral Anniversary Celebration! \nThis week-long celebration will highlight the incredible impact Pastor Curry has made in the lives of our congregation and the surrounding community. We invite all members\, family\, friends\, and guests to be a part of this joyful occasion as we express our love and appreciation.
URL:https://myezionfair.org/event/our-pastor-people-pastoral-anniversary-week/
END:VEVENT
BEGIN:VEVENT
DTSTART;TZID=UTC:20251231T223000
DTEND;TZID=UTC:20260101T000000
DTSTAMP:20260423T203350
CREATED:20251230T204343Z
LAST-MODIFIED:20251230T205300Z
UID:27497-1767220200-1767225600@myezionfair.org
SUMMARY:EFBC Watch Night Service – New Year’s 2026 Celebration
DESCRIPTION:Join us at Ezion Fair Baptist Church as we come together for our Friends & Family Watch Night Service to welcome in the New Year with praise\, worship\, gratitude\, and expectation! This is a night for our church family\, loved ones\, and community to celebrate all God has done in 2025 and step into 2026 with joy and faith. \nGather with us for: \n\n\nPowerful Worship & Prayer \n\n\nUplifting New Year’s Eve Sermon  \n\n\nA Special Countdown into the New Year \n\n\nFellowship\, Love\, and Community Celebration \n\n\nWhether you’ve been with us for years or are joining us for the first time\, you have a place here. Bring your family\, invite a friend\, and let’s celebrate the goodness of God together! \n📍 Ezion Fair Baptist Church📅 December 31\, 2025⏰ Service begins at 10:00PM – Countdown at Midnight \nLet’s step into 2026 with purpose\, praise\, and expectation!
URL:https://myezionfair.org/event/efbc-watch-night-service-new-years-2026-celebration/
END:VEVENT
END:VCALENDAR