BEGIN:VCALENDAR
VERSION:2.0
PRODID:-//Ezion Fair Baptist Church - ECPv6.15.20//NONSGML v1.0//EN
CALSCALE:GREGORIAN
METHOD:PUBLISH
X-WR-CALNAME:Ezion Fair Baptist Church
X-ORIGINAL-URL:https://myezionfair.org
X-WR-CALDESC:Events for Ezion Fair Baptist Church
REFRESH-INTERVAL;VALUE=DURATION:PT1H
X-Robots-Tag:noindex
X-PUBLISHED-TTL:PT1H
BEGIN:VTIMEZONE
TZID:UTC
BEGIN:STANDARD
TZOFFSETFROM:+0000
TZOFFSETTO:+0000
TZNAME:UTC
DTSTART:20230101T000000
END:STANDARD
END:VTIMEZONE
BEGIN:VEVENT
DTSTART;TZID=UTC:20241102T090000
DTEND;TZID=UTC:20241102T110000
DTSTAMP:20260425T035641
CREATED:20241021T133007Z
LAST-MODIFIED:20241021T133007Z
UID:26525-1730538000-1730545200@myezionfair.org
SUMMARY:Men's Fellowship Breakfast
DESCRIPTION:https://myezionfair.org/wp-content/uploads/2024/10/Mens-Fellowship.mp4\nMen’s Fellowship Breakfast \nJoin us for a morning of great food\, fellowship\, and inspiration at our Men’s Fellowship Breakfast on Saturday\, November 2\, 2024\, at 9:00 AM. This is a wonderful opportunity to connect with other men in the community\, share experiences\, and grow together in faith. \nWe are honored to have Pastor Meredith Griffin as our guest speaker. Pastor Griffin will share a powerful message on faith\, leadership\, and the challenges men face today in their spiritual journey. Don’t miss this chance to be uplifted and encouraged! \nBring a friend\, and let’s enjoy a time of meaningful connection and growth. \nDate: Saturday\, November 2\, 2024\nTime: 9:00 AM to 11:00AM\nLocation: Church Fellowship Hall \nFor more information\, please contact 302-652-9114. We look forward to seeing you there!
URL:https://myezionfair.org/event/mens-fellowship-breakfast/
END:VEVENT
BEGIN:VEVENT
DTSTART;TZID=UTC:20241117T150000
DTEND;TZID=UTC:20241117T180000
DTSTAMP:20260425T035641
CREATED:20241107T140220Z
LAST-MODIFIED:20241107T140220Z
UID:26530-1731855600-1731866400@myezionfair.org
SUMMARY:Official Deacons' Ordination Service
DESCRIPTION:Join Us for the Deacons’ Ordination Service \nDate: Sunday\, November 17\, 2024\nTime: 3:30 PM\nLocation: Church Sanctuary \nWe warmly invite you to a special service in our church sanctuary to celebrate the ordination of seven dedicated members of our congregation. Join us in supporting Kenny Wright\, Nate Rhodes\, Leonard Worley\, Brian Randolph\, Martin Green\, Dorell Roberts\, and Thomas Boston as they step into their roles as deacons\, committed to serving our church community with faith and integrity. \nFollowing the service\, dinner will be served in the church fellowship hall for $15.00 per person. We look forward to sharing this meaningful occasion with you through prayer\, fellowship\, and a shared meal.
URL:https://myezionfair.org/event/official-deacons-ordination-service/
END:VEVENT
BEGIN:VEVENT
DTSTART;TZID=UTC:20241123T180000
DTEND;TZID=UTC:20241123T210000
DTSTAMP:20260425T035641
CREATED:20241107T142941Z
LAST-MODIFIED:20241111T140939Z
UID:26534-1732384800-1732395600@myezionfair.org
SUMMARY:Cozy Game Night with Piercing the Darkness Ministry
DESCRIPTION:✨ Cozy Game Night with Piercing the Darkness Ministry ✨ \nCalling all teens and young adults! Join us for an unforgettable Cozy Game Night on November 23rd from 6:00 PM to 9:00 PM in the Church Wholeness Center. We’re bringing you a night filled with fun games\, delicious food\, hot chocolate\, and a cozy movie to end the evening! \nWhat to Expect: \n\nA variety of games to enjoy with friends\nComfort food and warm drinks\nA movie to wrap up the night\n\nDress Code: Comfy and cozy! Bring your favorite sweater\, sweats\, or anything that feels like home. \nHow to Sign Up: Scan the flyer in the church bookstore\, or reach out to one of our ministry leaders: \n\nFirst Lady Rosa Curry\nMinister Kandee Boone\nMinister Andre Hinds\n\n\nFirst Lady Rosa Curry\, rosacurry@aol.com\, 302-652-9114 ext.101 \nMin. Andre Hinds\, andrehinds19@gmail.com\, 302-333-4117 \nMin. Kandee Boone\, kandeeboone@ymail.com\, 302-723-8651 \n\nDon’t miss out on a night of connection\, fun\, and fellowship!
URL:https://myezionfair.org/event/cozy-game-night-with-piercing-the-darkness-ministry/
END:VEVENT
END:VCALENDAR