BEGIN:VCALENDAR
VERSION:2.0
PRODID:-//Ezion Fair Baptist Church - ECPv6.15.20//NONSGML v1.0//EN
CALSCALE:GREGORIAN
METHOD:PUBLISH
X-WR-CALNAME:Ezion Fair Baptist Church
X-ORIGINAL-URL:https://myezionfair.org
X-WR-CALDESC:Events for Ezion Fair Baptist Church
REFRESH-INTERVAL;VALUE=DURATION:PT1H
X-Robots-Tag:noindex
X-PUBLISHED-TTL:PT1H
BEGIN:VTIMEZONE
TZID:UTC
BEGIN:STANDARD
TZOFFSETFROM:+0000
TZOFFSETTO:+0000
TZNAME:UTC
DTSTART:20230101T000000
END:STANDARD
END:VTIMEZONE
BEGIN:VEVENT
DTSTART;TZID=UTC:20240818T080000
DTEND;TZID=UTC:20240818T170000
DTSTAMP:20260425T151511
CREATED:20240803T150944Z
LAST-MODIFIED:20240803T150944Z
UID:26270-1723968000-1724000400@myezionfair.org
SUMMARY:Unity Day Committee Fish Fry
DESCRIPTION:The EFBC Unity Day Committee Presents: Fish Fry \nSave the Date: August 18\, 2024 \nTaking Pre-Orders: August 4\, 2024\, and August 11\, 2024 \nEnjoy a delicious fish fry hosted by the Unity Day Committee. Pre-order your meals to support our community and enjoy a day of good food and fellowship. \n 
URL:https://myezionfair.org/event/unity-day-committee-fish-fry/
END:VEVENT
BEGIN:VEVENT
DTSTART;TZID=UTC:20240816T140000
DTEND;TZID=UTC:20240816T150000
DTSTAMP:20260425T151511
CREATED:20240724T184737Z
LAST-MODIFIED:20240724T184737Z
UID:26225-1723816800-1723820400@myezionfair.org
SUMMARY:Ezion Fair Performing Arts Camp
DESCRIPTION:Ezion Fair Performing Arts Camp Presents: \n“The Musical\,” a vibrant and captivating production that showcases the immense talent and creativity of our young performers. \nAugust 16\, 2024 at 2:00 PM EST \nAddress: 1400 B Street Wilmington\, DE 19801 \nLocation: The Church Sanctuary \nFor more information contact: 302-652-9114 ext 110
URL:https://myezionfair.org/event/ezion-fair-performing-arts-camp/
END:VEVENT
BEGIN:VEVENT
DTSTART;TZID=UTC:20240806T190000
DTEND;TZID=UTC:20240806T210000
DTSTAMP:20260425T151511
CREATED:20240803T152033Z
LAST-MODIFIED:20240803T152033Z
UID:26278-1722970800-1722978000@myezionfair.org
SUMMARY:Summer Concert Mass Choir Practices
DESCRIPTION:  \n \nThe Music Ministry is Calling All Singers \nPractices are every Tuesday at 7:00 PM. \nWe are calling all singers to lend their voices for the Mass Choir. \nBe a part of our Summer Concert by joining the Mass Choir. This is a wonderful opportunity to share your talent and contribute to a beautiful musical performance.
URL:https://myezionfair.org/event/summer-concert-mass-choir-practices/
END:VEVENT
BEGIN:VEVENT
DTSTART;TZID=UTC:20240804T130000
DTEND;TZID=UTC:20240804T160000
DTSTAMP:20260425T151511
CREATED:20240803T151500Z
LAST-MODIFIED:20240803T151536Z
UID:26274-1722776400-1722787200@myezionfair.org
SUMMARY:Veterans Gathering
DESCRIPTION:Veterans Gathering \nWhen: On August 4\, 2024 \nWhere: After Service in the fellowship hall or sanctuary \nJoin us for a heartfelt gathering honoring our veterans. For more information\, see Trustee Rebecca Isaac.
URL:https://myezionfair.org/event/veterans-gathering/
END:VEVENT
BEGIN:VEVENT
DTSTART;TZID=UTC:20240615T110000
DTEND;TZID=UTC:20240615T130000
DTSTAMP:20260425T151511
CREATED:20240612T204502Z
LAST-MODIFIED:20240612T204502Z
UID:26073-1718449200-1718456400@myezionfair.org
SUMMARY:Jazz Brunch
DESCRIPTION:Jazz Brunch \nLocation: Fellowship Hall \nAddress: 1400 B Street\, Wilmington\, DE 19801 \nGet information in regards to tickets: 302-652-9114
URL:https://myezionfair.org/event/jazz-brunch/
END:VEVENT
BEGIN:VEVENT
DTSTART;TZID=UTC:20240511T113000
DTEND;TZID=UTC:20240511T163000
DTSTAMP:20260425T151511
CREATED:20240506T134702Z
LAST-MODIFIED:20240506T134702Z
UID:25749-1715427000-1715445000@myezionfair.org
SUMMARY:Mother's Day Brunch
DESCRIPTION:Celebrate Mother‘s Day in style with our enchanting Jazz Brunch\, a delightful fusion of delectable cuisine and soulful melodies\, set to take place on May 11\, 2024\, from 11:30 AM to 4:30 PM\, within the warm ambiance of our church fellowship hall.  \nThis Mother’s Day Jazz Brunch is not just a feast for the senses but also a celebration of the remarkable women in our lives. Join us as we honor mothers\, grandmothers\, and mother figures\, expressing gratitude for their boundless love\, strength\, and unwavering support.
URL:https://myezionfair.org/event/mothers-day-brunch/
END:VEVENT
BEGIN:VEVENT
DTSTART;TZID=UTC:20240506T190000
DTEND;TZID=UTC:20240506T200000
DTSTAMP:20260425T151511
CREATED:20240506T133744Z
LAST-MODIFIED:20240506T133744Z
UID:25746-1715022000-1715025600@myezionfair.org
SUMMARY:TG Swap Ministry
DESCRIPTION:“TG SWAP” (The Girls\, Serving With A Purpose) Ministry Session \nTomorrow: Monday\, May 6\, 2024 \n7:00 pm – 8:00 pm \nIn the Fellowship Hall \nIf you have any questions please see Rev. Benton or Minister Cassidy
URL:https://myezionfair.org/event/tg-swap-ministry/
END:VEVENT
BEGIN:VEVENT
DTSTART;TZID=UTC:20240506T180000
DTEND;TZID=UTC:20240506T200000
DTSTAMP:20260425T151511
CREATED:20240506T133056Z
LAST-MODIFIED:20240506T133056Z
UID:25743-1715018400-1715025600@myezionfair.org
SUMMARY:DOZ Rehearsals In Sanctuary
DESCRIPTION:DOZ Rehearsals in the Sanctuary at 6:00 PM
URL:https://myezionfair.org/event/doz-rehearsals-in-sanctuary/
END:VEVENT
END:VCALENDAR