BEGIN:VCALENDAR
VERSION:2.0
PRODID:-//Ezion Fair Baptist Church - ECPv6.15.20//NONSGML v1.0//EN
CALSCALE:GREGORIAN
METHOD:PUBLISH
X-WR-CALNAME:Ezion Fair Baptist Church
X-ORIGINAL-URL:https://myezionfair.org
X-WR-CALDESC:Events for Ezion Fair Baptist Church
REFRESH-INTERVAL;VALUE=DURATION:PT1H
X-Robots-Tag:noindex
X-PUBLISHED-TTL:PT1H
BEGIN:VTIMEZONE
TZID:UTC
BEGIN:STANDARD
TZOFFSETFROM:+0000
TZOFFSETTO:+0000
TZNAME:UTC
DTSTART:20240101T000000
END:STANDARD
END:VTIMEZONE
BEGIN:VEVENT
DTSTART;TZID=UTC:20250906T170000
DTEND;TZID=UTC:20250906T190000
DTSTAMP:20260424T054555
CREATED:20250812T134759Z
LAST-MODIFIED:20250812T134759Z
UID:27111-1757178000-1757185200@myezionfair.org
SUMMARY:Line Dancing Mortgage Burning Event
DESCRIPTION:Celebrate with the Retention Ministry at our Line Dancing Mortgage Burning Event \nDates: Saturday\, September 6\, 2025 \nTime: 5:00 PM \nLocation: 1400 B Street\, Wilmington\, DE \nFor more information: 302-652-9114
URL:https://myezionfair.org/event/line-dancing-mortgage-burning-event/
END:VEVENT
END:VCALENDAR