BEGIN:VCALENDAR
VERSION:2.0
PRODID:-//Ezion Fair Baptist Church - ECPv6.15.20//NONSGML v1.0//EN
CALSCALE:GREGORIAN
METHOD:PUBLISH
X-ORIGINAL-URL:https://myezionfair.org
X-WR-CALDESC:Events for Ezion Fair Baptist Church
REFRESH-INTERVAL;VALUE=DURATION:PT1H
X-Robots-Tag:noindex
X-PUBLISHED-TTL:PT1H
BEGIN:VTIMEZONE
TZID:UTC
BEGIN:STANDARD
TZOFFSETFROM:+0000
TZOFFSETTO:+0000
TZNAME:UTC
DTSTART:20230101T000000
END:STANDARD
END:VTIMEZONE
BEGIN:VEVENT
DTSTART;VALUE=DATE:20241027
DTEND;VALUE=DATE:20241028
DTSTAMP:20260425T153338
CREATED:20241021T132303Z
LAST-MODIFIED:20241021T132303Z
UID:26523-1729987200-1730073599@myezionfair.org
SUMMARY:Unity Day: “Our Wholeness In Christ Requires A Relationship With Each Other”
DESCRIPTION:https://myezionfair.org/wp-content/uploads/2024/10/Unity-Day-Advertisement-2024.mp4\nUnity Day: “Our Wholeness In Christ Requires A Relationship With Each Other” \nDate: Sunday\, October 27\, 2024 \nTime: 9:00 AM and 11:30AM (Both Services) \nScripture Theme: 1 Corinthians 12:12 – “For just as the body is one and has many members\, and all the members of the body\, though many\, are one body\, so it is with Christ.” \nJoin us for Unity Day 2024\, a heartfelt gathering where we celebrate our unity in Christ and take a bold step toward achieving financial freedom for our church! This year’s event holds special significance as we work together to burn our church mortgage and move forward debt-free\, strengthening our ministry and outreach for generations to come. \nWith the theme “Our Wholeness In Christ Requires A Relationship With Each Other\,” Unity Day emphasizes the power of coming together as one body in Christ. Just as each part of the body plays a vital role\, your support and participation will help us accomplish this monumental goal. Together\, we can close this chapter and open new doors for our church’s growth and mission. \nWe invite everyone to join us for this momentous occasion! Together\, we can achieve what we cannot do alone—because in Christ\, we are one.
URL:https://myezionfair.org/event/unity-day-our-wholeness-in-christ-requires-a-relationship-with-each-other/
END:VEVENT
END:VCALENDAR