BEGIN:VCALENDAR
VERSION:2.0
PRODID:-//Ezion Fair Baptist Church - ECPv6.15.20//NONSGML v1.0//EN
CALSCALE:GREGORIAN
METHOD:PUBLISH
X-WR-CALNAME:Ezion Fair Baptist Church
X-ORIGINAL-URL:https://myezionfair.org
X-WR-CALDESC:Events for Ezion Fair Baptist Church
REFRESH-INTERVAL;VALUE=DURATION:PT1H
X-Robots-Tag:noindex
X-PUBLISHED-TTL:PT1H
BEGIN:VTIMEZONE
TZID:UTC
BEGIN:STANDARD
TZOFFSETFROM:+0000
TZOFFSETTO:+0000
TZNAME:UTC
DTSTART:20230101T000000
END:STANDARD
END:VTIMEZONE
BEGIN:VEVENT
DTSTART;TZID=UTC:20240928T080000
DTEND;TZID=UTC:20240928T170000
DTSTAMP:20260425T105706
CREATED:20240928T161438Z
LAST-MODIFIED:20240928T161438Z
UID:26481-1727510400-1727542800@myezionfair.org
SUMMARY:Pastors Anniversary Celebration
DESCRIPTION:  \nhttps://myezionfair.org/wp-content/uploads/2024/09/Pastors-Anniversary-2024-Website-.mp4\nJoin us on September 29\, 2024\, as we honor and celebrate 19 years of preaching\, teaching\, leading\, and inspiring under the faithful leadership of our Senior Pastor\, Rev. Dr. Christopher T. Curry. This special occasion will be marked by two powerful services at 9:00 AM and 11:30 AM\, where we will reflect on the incredible impact Pastor Curry has made over nearly two decades of ministry. \nCome and be part of this joyous celebration as we express our gratitude for his unwavering commitment to God’s Word\, his visionary leadership\, and his heart for the congregation and community. \nDate: September 29\, 2024\nService Times: 9:00 AM & 11:30 AM\nLocation: 1400 B Street\nHonoree: Senior Pastor Rev. Dr. Christopher T. Curry \nWe look forward to celebrating this milestone with you and giving thanks for all that God has done through Pastor Curry’s ministry!
URL:https://myezionfair.org/event/pastors-anniversary-celebration/
END:VEVENT
END:VCALENDAR