BEGIN:VCALENDAR
VERSION:2.0
PRODID:-//Ezion Fair Baptist Church - ECPv6.15.20//NONSGML v1.0//EN
CALSCALE:GREGORIAN
METHOD:PUBLISH
X-WR-CALNAME:Ezion Fair Baptist Church
X-ORIGINAL-URL:https://myezionfair.org
X-WR-CALDESC:Events for Ezion Fair Baptist Church
REFRESH-INTERVAL;VALUE=DURATION:PT1H
X-Robots-Tag:noindex
X-PUBLISHED-TTL:PT1H
BEGIN:VTIMEZONE
TZID:UTC
BEGIN:STANDARD
TZOFFSETFROM:+0000
TZOFFSETTO:+0000
TZNAME:UTC
DTSTART:20230101T000000
END:STANDARD
END:VTIMEZONE
BEGIN:VEVENT
DTSTART;TZID=UTC:20240816T140000
DTEND;TZID=UTC:20240816T150000
DTSTAMP:20260425T140901
CREATED:20240724T184737Z
LAST-MODIFIED:20240724T184737Z
UID:26225-1723816800-1723820400@myezionfair.org
SUMMARY:Ezion Fair Performing Arts Camp
DESCRIPTION:Ezion Fair Performing Arts Camp Presents: \n“The Musical\,” a vibrant and captivating production that showcases the immense talent and creativity of our young performers. \nAugust 16\, 2024 at 2:00 PM EST \nAddress: 1400 B Street Wilmington\, DE 19801 \nLocation: The Church Sanctuary \nFor more information contact: 302-652-9114 ext 110
URL:https://myezionfair.org/event/ezion-fair-performing-arts-camp/
END:VEVENT
END:VCALENDAR