BEGIN:VCALENDAR
VERSION:2.0
PRODID:-//Ezion Fair Baptist Church - ECPv6.15.20//NONSGML v1.0//EN
CALSCALE:GREGORIAN
METHOD:PUBLISH
X-WR-CALNAME:Ezion Fair Baptist Church
X-ORIGINAL-URL:https://myezionfair.org
X-WR-CALDESC:Events for Ezion Fair Baptist Church
REFRESH-INTERVAL;VALUE=DURATION:PT1H
X-Robots-Tag:noindex
X-PUBLISHED-TTL:PT1H
BEGIN:VTIMEZONE
TZID:UTC
BEGIN:STANDARD
TZOFFSETFROM:+0000
TZOFFSETTO:+0000
TZNAME:UTC
DTSTART:20230101T000000
END:STANDARD
END:VTIMEZONE
BEGIN:VEVENT
DTSTART;TZID=UTC:20240806T190000
DTEND;TZID=UTC:20240806T210000
DTSTAMP:20260425T140915
CREATED:20240803T152033Z
LAST-MODIFIED:20240803T152033Z
UID:26278-1722970800-1722978000@myezionfair.org
SUMMARY:Summer Concert Mass Choir Practices
DESCRIPTION:  \n \nThe Music Ministry is Calling All Singers \nPractices are every Tuesday at 7:00 PM. \nWe are calling all singers to lend their voices for the Mass Choir. \nBe a part of our Summer Concert by joining the Mass Choir. This is a wonderful opportunity to share your talent and contribute to a beautiful musical performance.
URL:https://myezionfair.org/event/summer-concert-mass-choir-practices/
END:VEVENT
END:VCALENDAR